Package: cleaver Version: 1.38.0 Command: chmod a+r cleaver -R && F:\biocbuild\bbs-3.17-bioc\R\bin\R.exe CMD build --keep-empty-dirs --no-resave-data cleaver StartedAt: 2023-10-15 18:09:57 -0400 (Sun, 15 Oct 2023) EndedAt: 2023-10-15 18:10:19 -0400 (Sun, 15 Oct 2023) EllapsedTime: 22.1 seconds RetCode: 0 Status: OK PackageFile: cleaver_1.38.0.tar.gz PackageFileSize: 319.8 KiB