Package: cleaver Version: 1.38.0 Command: rm -rf cleaver.buildbin-libdir && mkdir cleaver.buildbin-libdir && F:\biocbuild\bbs-3.17-bioc\R\bin\R.exe CMD INSTALL --build --library=cleaver.buildbin-libdir cleaver_1.38.0.tar.gz StartedAt: 2023-10-16 08:35:26 -0400 (Mon, 16 Oct 2023) EndedAt: 2023-10-16 08:35:39 -0400 (Mon, 16 Oct 2023) EllapsedTime: 13.9 seconds RetCode: 0 Status: OK PackageFile: cleaver_1.38.0.zip PackageFileSize: 357 KiB