Package: cleaver Version: 1.38.0 Command: /Library/Frameworks/R.framework/Resources/bin/R CMD INSTALL cleaver StartedAt: 2023-10-15 15:11:41 -0400 (Sun, 15 Oct 2023) EndedAt: 2023-10-15 15:12:15 -0400 (Sun, 15 Oct 2023) EllapsedTime: 34.2 seconds RetCode: 0 Status: OK