Package: cleanUpdTSeq Version: 1.38.0 Command: /home/biocbuild/bbs-3.17-bioc/R/bin/R CMD build --keep-empty-dirs --no-resave-data cleanUpdTSeq StartedAt: 2023-10-15 16:19:27 -0400 (Sun, 15 Oct 2023) EndedAt: 2023-10-15 16:20:53 -0400 (Sun, 15 Oct 2023) EllapsedTime: 85.8 seconds RetCode: 0 Status: OK PackageFile: cleanUpdTSeq_1.38.0.tar.gz PackageFileSize: 4.008 MiB