Package: cicero Version: 1.18.0 Command: F:\biocbuild\bbs-3.17-bioc\R\bin\R.exe CMD INSTALL cicero StartedAt: 2023-10-15 16:27:16 -0400 (Sun, 15 Oct 2023) EndedAt: 2023-10-15 16:28:20 -0400 (Sun, 15 Oct 2023) EllapsedTime: 63.3 seconds RetCode: 0 Status: OK