Package: cicero Version: 1.18.0 Command: chmod a+r cicero -R && F:\biocbuild\bbs-3.17-bioc\R\bin\R.exe CMD build --keep-empty-dirs --no-resave-data cicero StartedAt: 2023-10-15 18:07:30 -0400 (Sun, 15 Oct 2023) EndedAt: 2023-10-15 18:09:33 -0400 (Sun, 15 Oct 2023) EllapsedTime: 123.4 seconds RetCode: 0 Status: OK PackageFile: cicero_1.18.0.tar.gz PackageFileSize: 1.14 MiB