Package: cicero Version: 1.18.0 Command: /home/biocbuild/bbs-3.17-bioc/R/bin/R CMD check --install=check:cicero.install-out.txt --library=/home/biocbuild/bbs-3.17-bioc/R/site-library --timings cicero_1.18.0.tar.gz StartedAt: 2023-10-15 20:05:07 -0400 (Sun, 15 Oct 2023) EndedAt: 2023-10-15 20:13:53 -0400 (Sun, 15 Oct 2023) EllapsedTime: 525.6 seconds RetCode: 0 Status: OK CheckDir: cicero.Rcheck Warnings: 0