Package: cicero Version: 1.18.0 Command: /Library/Frameworks/R.framework/Resources/bin/R CMD build --keep-empty-dirs --no-resave-data cicero StartedAt: 2023-10-15 17:25:42 -0400 (Sun, 15 Oct 2023) EndedAt: 2023-10-15 17:30:15 -0400 (Sun, 15 Oct 2023) EllapsedTime: 273.6 seconds RetCode: 0 Status: OK PackageFile: cicero_1.18.0.tar.gz PackageFileSize: 1.18 MiB