Package: chromswitch Version: 1.22.0 Command: rm -rf chromswitch.buildbin-libdir && mkdir chromswitch.buildbin-libdir && /Users/biocbuild/BBS/utils/build-universal.sh chromswitch_1.22.0.tar.gz /Library/Frameworks/R.framework/Resources/bin/R chromswitch.buildbin-libdir StartedAt: 2023-10-16 09:08:28 -0400 (Mon, 16 Oct 2023) EndedAt: 2023-10-16 09:10:13 -0400 (Mon, 16 Oct 2023) EllapsedTime: 105.0 seconds RetCode: 0 Status: OK PackageFile: chromswitch_1.22.0.tgz PackageFileSize: 1.433 MiB