Package: chromstaR Version: 1.26.0 Command: chmod a+r chromstaR -R && F:\biocbuild\bbs-3.17-bioc\R\bin\R.exe CMD build --keep-empty-dirs --no-resave-data chromstaR StartedAt: 2023-10-15 18:07:00 -0400 (Sun, 15 Oct 2023) EndedAt: 2023-10-15 18:12:12 -0400 (Sun, 15 Oct 2023) EllapsedTime: 312.5 seconds RetCode: 0 Status: OK PackageFile: chromstaR_1.26.0.tar.gz PackageFileSize: 6.761 MiB