Package: chromstaR Version: 1.26.0 Command: /home/biocbuild/bbs-3.17-bioc/R/bin/R CMD check --install=check:chromstaR.install-out.txt --library=/home/biocbuild/bbs-3.17-bioc/R/site-library --timings chromstaR_1.26.0.tar.gz StartedAt: 2023-10-15 20:04:39 -0400 (Sun, 15 Oct 2023) EndedAt: 2023-10-15 20:15:04 -0400 (Sun, 15 Oct 2023) EllapsedTime: 625.2 seconds RetCode: 0 Status: OK CheckDir: chromstaR.Rcheck Warnings: 0