Package: chromstaR Version: 1.26.0 Command: /home/biocbuild/bbs-3.17-bioc/R/bin/R CMD build --keep-empty-dirs --no-resave-data chromstaR StartedAt: 2023-10-15 16:18:20 -0400 (Sun, 15 Oct 2023) EndedAt: 2023-10-15 16:22:58 -0400 (Sun, 15 Oct 2023) EllapsedTime: 277.8 seconds RetCode: 0 Status: OK PackageFile: chromstaR_1.26.0.tar.gz PackageFileSize: 6.762 MiB