Package: chromVAR Version: 1.22.1 Command: chmod a+r chromVAR -R && F:\biocbuild\bbs-3.17-bioc\R\bin\R.exe CMD build --keep-empty-dirs --no-resave-data chromVAR StartedAt: 2023-10-15 18:07:27 -0400 (Sun, 15 Oct 2023) EndedAt: 2023-10-15 18:10:48 -0400 (Sun, 15 Oct 2023) EllapsedTime: 201.4 seconds RetCode: 0 Status: OK PackageFile: chromVAR_1.22.1.tar.gz PackageFileSize: 424 KiB