Package: chromVAR Version: 1.22.1 Command: /home/biocbuild/bbs-3.17-bioc/R/bin/R CMD check --install=check:chromVAR.install-out.txt --library=/home/biocbuild/bbs-3.17-bioc/R/site-library --timings chromVAR_1.22.1.tar.gz StartedAt: 2023-10-15 20:04:53 -0400 (Sun, 15 Oct 2023) EndedAt: 2023-10-15 20:12:28 -0400 (Sun, 15 Oct 2023) EllapsedTime: 454.8 seconds RetCode: 0 Status: OK CheckDir: chromVAR.Rcheck Warnings: 0