Package: chromVAR Version: 1.22.1 Command: /Library/Frameworks/R.framework/Resources/bin/R CMD INSTALL chromVAR StartedAt: 2023-10-15 15:48:22 -0400 (Sun, 15 Oct 2023) EndedAt: 2023-10-15 15:52:05 -0400 (Sun, 15 Oct 2023) EllapsedTime: 222.8 seconds RetCode: 0 Status: OK