Package: chromVAR Version: 1.22.1 Command: /Library/Frameworks/R.framework/Resources/bin/R CMD check --install=check:chromVAR.install-out.txt --library=/Library/Frameworks/R.framework/Resources/library --no-vignettes --timings chromVAR_1.22.1.tar.gz StartedAt: 2023-10-01 23:50:55 -0400 (Sun, 01 Oct 2023) EndedAt: 2023-10-02 00:06:36 -0400 (Mon, 02 Oct 2023) EllapsedTime: 940.6 seconds RetCode: 0 Status: OK CheckDir: chromVAR.Rcheck Warnings: 0