Package: chromDraw Version: 2.30.0 Command: F:\biocbuild\bbs-3.17-bioc\R\bin\R.exe CMD INSTALL chromDraw StartedAt: 2023-10-15 15:55:04 -0400 (Sun, 15 Oct 2023) EndedAt: 2023-10-15 15:56:11 -0400 (Sun, 15 Oct 2023) EllapsedTime: 66.8 seconds RetCode: 0 Status: OK