Package: chromDraw Version: 2.30.0 Command: chmod a+r chromDraw -R && F:\biocbuild\bbs-3.17-bioc\R\bin\R.exe CMD build --keep-empty-dirs --no-resave-data chromDraw StartedAt: 2023-10-15 18:06:31 -0400 (Sun, 15 Oct 2023) EndedAt: 2023-10-15 18:07:54 -0400 (Sun, 15 Oct 2023) EllapsedTime: 83.0 seconds RetCode: 0 Status: OK PackageFile: chromDraw_2.30.0.tar.gz PackageFileSize: 2.127 MiB