Package: chromDraw Version: 2.30.0 Command: rm -rf chromDraw.buildbin-libdir && mkdir chromDraw.buildbin-libdir && F:\biocbuild\bbs-3.17-bioc\R\bin\R.exe CMD INSTALL --build --library=chromDraw.buildbin-libdir chromDraw_2.30.0.tar.gz StartedAt: 2023-10-16 08:34:42 -0400 (Mon, 16 Oct 2023) EndedAt: 2023-10-16 08:35:46 -0400 (Mon, 16 Oct 2023) EllapsedTime: 64.0 seconds RetCode: 0 Status: OK PackageFile: chromDraw_2.30.0.zip PackageFileSize: 1.416 MiB