Package: chromDraw Version: 2.30.0 Command: /home/biocbuild/bbs-3.17-bioc/R/bin/R CMD check --install=check:chromDraw.install-out.txt --library=/home/biocbuild/bbs-3.17-bioc/R/site-library --timings chromDraw_2.30.0.tar.gz StartedAt: 2023-10-15 20:03:43 -0400 (Sun, 15 Oct 2023) EndedAt: 2023-10-15 20:05:07 -0400 (Sun, 15 Oct 2023) EllapsedTime: 84.3 seconds RetCode: 0 Status: WARNINGS CheckDir: chromDraw.Rcheck Warnings: 3