Package: chromDraw Version: 2.30.0 Command: /Library/Frameworks/R.framework/Resources/bin/R CMD check --install=check:chromDraw.install-out.txt --library=/Library/Frameworks/R.framework/Resources/library --no-vignettes --timings chromDraw_2.30.0.tar.gz StartedAt: 2023-10-15 23:46:02 -0400 (Sun, 15 Oct 2023) EndedAt: 2023-10-15 23:49:00 -0400 (Sun, 15 Oct 2023) EllapsedTime: 178.2 seconds RetCode: 0 Status: WARNINGS CheckDir: chromDraw.Rcheck Warnings: 3