Package: chromDraw Version: 2.30.0 Command: /Library/Frameworks/R.framework/Resources/bin/R CMD build --keep-empty-dirs --no-resave-data chromDraw StartedAt: 2023-10-15 17:24:29 -0400 (Sun, 15 Oct 2023) EndedAt: 2023-10-15 17:27:13 -0400 (Sun, 15 Oct 2023) EllapsedTime: 163.8 seconds RetCode: 0 Status: OK PackageFile: chromDraw_2.30.0.tar.gz PackageFileSize: 2.228 MiB