Package: chromDraw Version: 2.30.0 Command: rm -rf chromDraw.buildbin-libdir && mkdir chromDraw.buildbin-libdir && /Users/biocbuild/BBS/utils/build-universal.sh chromDraw_2.30.0.tar.gz /Library/Frameworks/R.framework/Resources/bin/R chromDraw.buildbin-libdir StartedAt: 2023-10-16 09:08:03 -0400 (Mon, 16 Oct 2023) EndedAt: 2023-10-16 09:10:59 -0400 (Mon, 16 Oct 2023) EllapsedTime: 175.5 seconds RetCode: 0 Status: OK PackageFile: chromDraw_2.30.0.tgz PackageFileSize: 1.213 MiB