Package: chipseq Version: 1.50.0 Command: /home/biocbuild/bbs-3.17-bioc/R/bin/R CMD INSTALL chipseq StartedAt: 2023-10-15 15:31:10 -0400 (Sun, 15 Oct 2023) EndedAt: 2023-10-15 15:31:40 -0400 (Sun, 15 Oct 2023) EllapsedTime: 29.1 seconds RetCode: 0 Status: OK