Package: chipenrich Version: 2.24.0 Command: F:\biocbuild\bbs-3.17-bioc\R\bin\R.exe CMD INSTALL chipenrich StartedAt: 2023-10-15 16:44:32 -0400 (Sun, 15 Oct 2023) EndedAt: 2023-10-15 16:45:25 -0400 (Sun, 15 Oct 2023) EllapsedTime: 53.2 seconds RetCode: 0 Status: OK