Package: chipenrich Version: 2.24.0 Command: /Library/Frameworks/R.framework/Resources/bin/R CMD check --install=check:chipenrich.install-out.txt --library=/Library/Frameworks/R.framework/Resources/library --no-vignettes --timings chipenrich_2.24.0.tar.gz StartedAt: 2023-10-15 23:42:24 -0400 (Sun, 15 Oct 2023) EndedAt: 2023-10-16 00:00:45 -0400 (Mon, 16 Oct 2023) EllapsedTime: 1100.7 seconds RetCode: 0 Status: OK CheckDir: chipenrich.Rcheck Warnings: 0