Package: chipenrich Version: 2.24.0 Command: /Library/Frameworks/R.framework/Resources/bin/R CMD build --keep-empty-dirs --no-resave-data chipenrich StartedAt: 2023-10-15 17:22:25 -0400 (Sun, 15 Oct 2023) EndedAt: 2023-10-15 17:25:41 -0400 (Sun, 15 Oct 2023) EllapsedTime: 197.0 seconds RetCode: 0 Status: OK PackageFile: chipenrich_2.24.0.tar.gz PackageFileSize: 629.8 KiB