Package: chipenrich Version: 2.24.0 Command: rm -rf chipenrich.buildbin-libdir && mkdir chipenrich.buildbin-libdir && /Users/biocbuild/BBS/utils/build-universal.sh chipenrich_2.24.0.tar.gz /Library/Frameworks/R.framework/Resources/bin/R chipenrich.buildbin-libdir StartedAt: 2023-10-16 09:07:38 -0400 (Mon, 16 Oct 2023) EndedAt: 2023-10-16 09:09:36 -0400 (Mon, 16 Oct 2023) EllapsedTime: 117.7 seconds RetCode: 0 Status: OK PackageFile: chipenrich_2.24.0.tgz PackageFileSize: 856.3 KiB