Package: chimeraviz Version: 1.26.0 Command: F:\biocbuild\bbs-3.17-bioc\R\bin\R.exe CMD check --no-multiarch --install=check:chimeraviz.install-out.txt --library=F:\biocbuild\bbs-3.17-bioc\R\library --no-vignettes --timings chimeraviz_1.26.0.tar.gz StartedAt: 2023-10-16 00:31:03 -0400 (Mon, 16 Oct 2023) EndedAt: 2023-10-16 00:40:31 -0400 (Mon, 16 Oct 2023) EllapsedTime: 568.2 seconds RetCode: 0 Status: OK CheckDir: chimeraviz.Rcheck Warnings: 0