Package: chimeraviz Version: 1.26.0 Command: chmod a+r chimeraviz -R && F:\biocbuild\bbs-3.17-bioc\R\bin\R.exe CMD build --keep-empty-dirs --no-resave-data chimeraviz StartedAt: 2023-10-15 18:03:19 -0400 (Sun, 15 Oct 2023) EndedAt: 2023-10-15 18:06:52 -0400 (Sun, 15 Oct 2023) EllapsedTime: 213.0 seconds RetCode: 0 Status: OK PackageFile: chimeraviz_1.26.0.tar.gz PackageFileSize: 2.735 MiB