Package: chimeraviz Version: 1.26.0 Command: rm -rf chimeraviz.buildbin-libdir && mkdir chimeraviz.buildbin-libdir && F:\biocbuild\bbs-3.17-bioc\R\bin\R.exe CMD INSTALL --build --library=chimeraviz.buildbin-libdir chimeraviz_1.26.0.tar.gz StartedAt: 2023-10-16 08:34:00 -0400 (Mon, 16 Oct 2023) EndedAt: 2023-10-16 08:35:06 -0400 (Mon, 16 Oct 2023) EllapsedTime: 66.9 seconds RetCode: 0 Status: OK PackageFile: chimeraviz_1.26.0.zip PackageFileSize: 3.335 MiB