Package: chimeraviz Version: 1.26.0 Command: /home/biocbuild/bbs-3.17-bioc/R/bin/R CMD check --install=check:chimeraviz.install-out.txt --library=/home/biocbuild/bbs-3.17-bioc/R/site-library --timings chimeraviz_1.26.0.tar.gz StartedAt: 2023-10-15 20:01:44 -0400 (Sun, 15 Oct 2023) EndedAt: 2023-10-15 20:14:19 -0400 (Sun, 15 Oct 2023) EllapsedTime: 755.8 seconds RetCode: 0 Status: OK CheckDir: chimeraviz.Rcheck Warnings: 0