Package: chimeraviz Version: 1.26.0 Command: /Library/Frameworks/R.framework/Resources/bin/R CMD check --install=check:chimeraviz.install-out.txt --library=/Library/Frameworks/R.framework/Resources/library --no-vignettes --timings chimeraviz_1.26.0.tar.gz StartedAt: 2023-10-15 23:41:34 -0400 (Sun, 15 Oct 2023) EndedAt: 2023-10-16 00:07:56 -0400 (Mon, 16 Oct 2023) EllapsedTime: 1581.9 seconds RetCode: 0 Status: OK CheckDir: chimeraviz.Rcheck Warnings: 0