Package: chimeraviz Version: 1.26.0 Command: rm -rf chimeraviz.buildbin-libdir && mkdir chimeraviz.buildbin-libdir && /Users/biocbuild/BBS/utils/build-universal.sh chimeraviz_1.26.0.tar.gz /Library/Frameworks/R.framework/Resources/bin/R chimeraviz.buildbin-libdir StartedAt: 2023-10-16 09:07:34 -0400 (Mon, 16 Oct 2023) EndedAt: 2023-10-16 09:10:59 -0400 (Mon, 16 Oct 2023) EllapsedTime: 204.6 seconds RetCode: 0 Status: OK PackageFile: chimeraviz_1.26.0.tgz PackageFileSize: 4.214 MiB