Package: cghMCR Version: 1.58.0 Command: F:\biocbuild\bbs-3.17-bioc\R\bin\R.exe CMD check --no-multiarch --install=check:cghMCR.install-out.txt --library=F:\biocbuild\bbs-3.17-bioc\R\library --no-vignettes --timings cghMCR_1.58.0.tar.gz StartedAt: 2023-10-16 00:29:37 -0400 (Mon, 16 Oct 2023) EndedAt: 2023-10-16 00:32:07 -0400 (Mon, 16 Oct 2023) EllapsedTime: 149.4 seconds RetCode: 0 Status: WARNINGS CheckDir: cghMCR.Rcheck Warnings: 1