Package: cghMCR Version: 1.58.0 Command: chmod a+r cghMCR -R && F:\biocbuild\bbs-3.17-bioc\R\bin\R.exe CMD build --keep-empty-dirs --no-resave-data cghMCR StartedAt: 2023-10-15 18:02:09 -0400 (Sun, 15 Oct 2023) EndedAt: 2023-10-15 18:03:28 -0400 (Sun, 15 Oct 2023) EllapsedTime: 78.4 seconds RetCode: 0 Status: OK PackageFile: cghMCR_1.58.0.tar.gz PackageFileSize: 36.01 MiB