Package: cghMCR Version: 1.58.0 Command: /home/biocbuild/bbs-3.17-bioc/R/bin/R CMD INSTALL cghMCR StartedAt: 2023-10-15 15:39:29 -0400 (Sun, 15 Oct 2023) EndedAt: 2023-10-15 15:39:50 -0400 (Sun, 15 Oct 2023) EllapsedTime: 21.6 seconds RetCode: 0 Status: OK