Package: cghMCR Version: 1.58.0 Command: /home/biocbuild/bbs-3.17-bioc/R/bin/R CMD check --install=check:cghMCR.install-out.txt --library=/home/biocbuild/bbs-3.17-bioc/R/site-library --timings cghMCR_1.58.0.tar.gz StartedAt: 2023-10-15 20:00:01 -0400 (Sun, 15 Oct 2023) EndedAt: 2023-10-15 20:03:13 -0400 (Sun, 15 Oct 2023) EllapsedTime: 192.0 seconds RetCode: 0 Status: WARNINGS CheckDir: cghMCR.Rcheck Warnings: 1