Package: cfTools Version: 1.0.0 Command: /home/biocbuild/bbs-3.17-bioc/R/bin/R CMD build --keep-empty-dirs --no-resave-data cfTools StartedAt: 2023-10-15 16:15:38 -0400 (Sun, 15 Oct 2023) EndedAt: 2023-10-15 16:16:40 -0400 (Sun, 15 Oct 2023) EllapsedTime: 62.3 seconds RetCode: 0 Status: OK PackageFile: cfTools_1.0.0.tar.gz PackageFileSize: 470 KiB