Package: cfTools Version: 1.0.0 Command: /Library/Frameworks/R.framework/Resources/bin/R CMD INSTALL cfTools StartedAt: 2023-10-15 15:15:41 -0400 (Sun, 15 Oct 2023) EndedAt: 2023-10-15 15:18:39 -0400 (Sun, 15 Oct 2023) EllapsedTime: 178.7 seconds RetCode: 0 Status: OK