Package: cfTools Version: 1.0.0 Command: /Library/Frameworks/R.framework/Resources/bin/R CMD check --install=check:cfTools.install-out.txt --library=/Library/Frameworks/R.framework/Resources/library --no-vignettes --timings cfTools_1.0.0.tar.gz StartedAt: 2023-10-15 23:39:19 -0400 (Sun, 15 Oct 2023) EndedAt: 2023-10-15 23:44:37 -0400 (Sun, 15 Oct 2023) EllapsedTime: 317.4 seconds RetCode: 0 Status: OK CheckDir: cfTools.Rcheck Warnings: 0