Package: cfTools Version: 1.0.0 Command: /Library/Frameworks/R.framework/Resources/bin/R CMD build --keep-empty-dirs --no-resave-data cfTools StartedAt: 2023-10-15 17:20:19 -0400 (Sun, 15 Oct 2023) EndedAt: 2023-10-15 17:23:00 -0400 (Sun, 15 Oct 2023) EllapsedTime: 161.1 seconds RetCode: 0 Status: OK PackageFile: cfTools_1.0.0.tar.gz PackageFileSize: 469.9 KiB