Package: cfTools Version: 1.0.0 Command: rm -rf cfTools.buildbin-libdir && mkdir cfTools.buildbin-libdir && /Users/biocbuild/BBS/utils/build-universal.sh cfTools_1.0.0.tar.gz /Library/Frameworks/R.framework/Resources/bin/R cfTools.buildbin-libdir StartedAt: 2023-10-16 09:07:17 -0400 (Mon, 16 Oct 2023) EndedAt: 2023-10-16 09:10:00 -0400 (Mon, 16 Oct 2023) EllapsedTime: 163.7 seconds RetCode: 0 Status: OK PackageFile: cfTools_1.0.0.tgz PackageFileSize: 585.6 KiB