Package: cfDNAPro Version: 1.6.0 Command: /Library/Frameworks/R.framework/Resources/bin/R CMD INSTALL cfDNAPro StartedAt: 2023-10-15 15:57:39 -0400 (Sun, 15 Oct 2023) EndedAt: 2023-10-15 15:59:21 -0400 (Sun, 15 Oct 2023) EllapsedTime: 102.3 seconds RetCode: 0 Status: OK