Package: censcyt Version: 1.8.0 Command: /home/biocbuild/bbs-3.17-bioc/R/bin/R CMD build --keep-empty-dirs --no-resave-data censcyt StartedAt: 2023-10-15 16:15:05 -0400 (Sun, 15 Oct 2023) EndedAt: 2023-10-15 16:16:27 -0400 (Sun, 15 Oct 2023) EllapsedTime: 82.0 seconds RetCode: 0 Status: OK PackageFile: censcyt_1.8.0.tar.gz PackageFileSize: 468.1 KiB