Package: cellxgenedp Version: 1.4.1 Command: chmod a+r cellxgenedp -R && F:\biocbuild\bbs-3.17-bioc\R\bin\R.exe CMD build --keep-empty-dirs --no-resave-data cellxgenedp StartedAt: 2023-10-15 17:59:51 -0400 (Sun, 15 Oct 2023) EndedAt: 2023-10-15 18:00:25 -0400 (Sun, 15 Oct 2023) EllapsedTime: 33.9 seconds RetCode: 0 Status: OK PackageFile: cellxgenedp_1.4.1.tar.gz PackageFileSize: 245.3 KiB