Package: cellxgenedp Version: 1.4.1 Command: /home/biocbuild/bbs-3.17-bioc/R/bin/R CMD INSTALL cellxgenedp StartedAt: 2023-10-15 15:27:03 -0400 (Sun, 15 Oct 2023) EndedAt: 2023-10-15 15:27:09 -0400 (Sun, 15 Oct 2023) EllapsedTime: 5.4 seconds RetCode: 0 Status: OK