Package: cellxgenedp Version: 1.4.1 Command: /home/biocbuild/bbs-3.17-bioc/R/bin/R CMD build --keep-empty-dirs --no-resave-data cellxgenedp StartedAt: 2023-10-15 16:15:00 -0400 (Sun, 15 Oct 2023) EndedAt: 2023-10-15 16:15:32 -0400 (Sun, 15 Oct 2023) EllapsedTime: 31.9 seconds RetCode: 0 Status: OK PackageFile: cellxgenedp_1.4.1.tar.gz PackageFileSize: 245.1 KiB