Package: cellxgenedp Version: 1.4.1 Command: /Library/Frameworks/R.framework/Resources/bin/R CMD INSTALL cellxgenedp StartedAt: 2023-10-15 15:46:13 -0400 (Sun, 15 Oct 2023) EndedAt: 2023-10-15 15:46:34 -0400 (Sun, 15 Oct 2023) EllapsedTime: 21.4 seconds RetCode: 0 Status: OK