Package: cellxgenedp Version: 1.4.1 Command: /Library/Frameworks/R.framework/Resources/bin/R CMD check --install=check:cellxgenedp.install-out.txt --library=/Library/Frameworks/R.framework/Resources/library --no-vignettes --timings cellxgenedp_1.4.1.tar.gz StartedAt: 2023-10-15 23:36:45 -0400 (Sun, 15 Oct 2023) EndedAt: 2023-10-15 23:40:08 -0400 (Sun, 15 Oct 2023) EllapsedTime: 203.2 seconds RetCode: 0 Status: OK CheckDir: cellxgenedp.Rcheck Warnings: 0